BEGIN:VCALENDAR
VERSION:2.0
PRODID:GIGPRESS 2.0 WORDPRESS PLUGIN
CALSCALE:GREGORIAN
X-WR-TIMEZONE:Etc/GMT
METHOD:PUBLISH
BEGIN:VTIMEZONE
TZID:GMT
BEGIN:STANDARD
DTSTART:20071028T010000
TZOFFSETTO:+0000
TZOFFSETFROM:+0000
END:STANDARD
END:VTIMEZONE
BEGIN:VEVENT
SUMMARY:Laura Crema Trio at Apollo's
DESCRIPTION:All Ages
LOCATION:Apollo's\, 2095 Commercial Drive\, Vancouver\, CA
UID:20260425T023000Z-258-crema_la@hotmail.com
URL:http://www.lauracrema.com/performances/
DTSTART;VALUE=DATE-TIME;TZID=GMT:20260425T023000Z
DTEND;VALUE=DATE-TIME;TZID=GMT:20260425T023000Z
DTSTAMP:20260423T014839Z
END:VEVENT
END:VCALENDAR